BEGIN:VCALENDAR
VERSION:2.0
PRODID:-//eventon.com NONSGML v1.0//EN
BEGIN:VEVENT
UID:69eb95dc6abef
DTSTAMP:20260424T161004
DTSTART:20260928T000000Z
DTEND:20261001T235900Z
LOCATION:Barmolloch Cottages Barmolloch Farm\,  Kilmichael Glen\,  Nr Ford
SUMMARY:Gathering Drum Birthing Retreat 2026
DESCRIPTION: Join me for a very unique drum birthing to create your very own Ceremonial Mother Drum. Craft your own gorgeous gathering drum over three days and nights working in ceremony to bring forth a magical medicine ally to support you on your life. Full details of this unique retreat can[..]
END:VEVENT
END:VCALENDAR